BEGIN:VCALENDAR
VERSION:2.0
PRODID:icalendar-ruby
CALSCALE:GREGORIAN
METHOD:PUBLISH
BEGIN:VEVENT
DTSTAMP:20260423T151432Z
UID:159-525885@ascentchurch.ca
DTSTART:20260513T220000Z
DTEND:20260514T010000Z
CLASS:PUBLIC
CREATED:20260422T154454
DESCRIPTION:
LAST-MODIFIED:20260422T154454
LOCATION:
SUMMARY:Young Adults Bible Study
URL;VALUE=URI:https://www.antiochcanada.ca/events/young-adults-bible-study/
 2026-05-13
END:VEVENT
END:VCALENDAR
