BEGIN:VCALENDAR
VERSION:2.0
PRODID:icalendar-ruby
CALSCALE:GREGORIAN
METHOD:PUBLISH
BEGIN:VEVENT
DTSTAMP:20260423T134348Z
UID:159-525884@ascentchurch.ca
DTSTART:20260429T220000Z
DTEND:20260430T010000Z
CLASS:PUBLIC
CREATED:20260422T154454
DESCRIPTION:
LAST-MODIFIED:20260422T154454
LOCATION:
SUMMARY:Young Adults Bible Study
URL;VALUE=URI:https://www.antiochcanada.ca/events/young-adults-bible-study/
 2026-04-29
END:VEVENT
END:VCALENDAR
