BEGIN:VCALENDAR
VERSION:2.0
PRODID:icalendar-ruby
CALSCALE:GREGORIAN
METHOD:PUBLISH
BEGIN:VEVENT
DTSTAMP:20260423T150349Z
UID:155-525873@ascentchurch.ca
DTSTART:20260603T230000Z
DTEND:20260604T003000Z
CLASS:PUBLIC
CREATED:20260422T153249
DESCRIPTION:
LAST-MODIFIED:20260422T153249
LOCATION:
SUMMARY:Worship & Prayer Night
URL;VALUE=URI:https://www.antiochcanada.ca/events/worship-prayer-night--155
 /2026-06-03
ATTACH;FILENAME=Blank-Prayer-%26-Worship-Night-2024.png;FMTTYPE=image/png:h
 ttps://dq5pwpg1q8ru0.cloudfront.net/2026/01/22/17/32/45/6294811a-af21-4b28
 -aa09-7816dc264309/Blank-Prayer-%2526-Worship-Night-2024.png
END:VEVENT
END:VCALENDAR
